Workbook
Name A: #REF!
Name A: #REF!
Name AA: #REF!
Name AA: #REF!
Name AugmTarifs: '[1]Scenario Manager'!$N$8
Name B2002_: '[2]saisie cabp'!#REF!
Name B2002_: '[2]saisie cabp'!#REF!
Name B2003_: '[2]saisie cabp'!#REF!
Name B2003_: '[2]saisie cabp'!#REF!
Name B2004_: '[2]saisie cabp'!#REF!
Name B2004_: '[2]saisie cabp'!#REF!
Name B2005_: '[2]saisie cabp'!#REF!
Name B2005_: '[2]saisie cabp'!#REF!
Name B2006_: '[2]saisie cabp'!#REF!
Name B2006_: '[2]saisie cabp'!#REF!
Name B2007_: '[2]saisie cabp'!#REF!
Name B2007_: '[2]saisie cabp'!#REF!
Name B2008_: '[2]saisie cabp'!#REF!
Name B2008_: '[2]saisie cabp'!#REF!
Name B2009_: '[2]saisie cabp'!#REF!
Name B2009_: '[2]saisie cabp'!#REF!
Name B2010_: '[2]saisie cabp'!#REF!
Name B2010_: '[2]saisie cabp'!#REF!
Name B2011_: '[2]saisie cabp'!$J$3:$J$560
Name BASE: [3]PERSONNEL!#REF!
Name BASE: [3]PERSONNEL!#REF!
Name CA2008_: '[2]saisie cabp'!$Q$3:$Q$560
Name CA2009_: '[2]saisie cabp'!$R$3:$R$560
Name CA2010_: '[2]saisie cabp'!$S$3:$S$560
Name CA2011_: '[2]saisie cabp'!$T$3:$T$560
Name calc_choice_sfe: [4]SFE!$D$149
Name CB_Amount: [4]NTF!$D$138
Name CellRefSens: '[4]Scenario Manager'!$B$9
Name Check_SFE1: [4]SFE!$D$182
Name Check_SFE1_bus: [4]SFE!$D$181
Name Check_SFE2: [4]SFE!$D$185
Name Check_SFE2_bus: [4]SFE!$D$184
Name Check_Vers_Ren: [4]Capex!$D$363
Name CODE: '[2]saisie cabp'!$F$3:$F$560
Name CODECOMPTE: '[2]saisie cabp'!$I$3:$I$560
Name ConcessionEndDate: #REF!
Name ConcessionEndDate: #REF!
Name ConstEndDate: [4]Hyp!$H$34
Name Construction_sensitivity: [4]Hyp!$O$463
Name ConstStartDate: #REF!
Name ConstStartDate: #REF!
Name ContractDate: #REF!
Name ContractDate: #REF!
Name CRA2002_: '[2]saisie cabp'!#REF!
Name CRA2002_: '[2]saisie cabp'!#REF!
Name CRA2003_: '[2]saisie cabp'!#REF!
Name CRA2003_: '[2]saisie cabp'!#REF!
Name CRA2004_: '[2]saisie cabp'!#REF!
Name CRA2004_: '[2]saisie cabp'!#REF!
Name CRA2005_: '[2]saisie cabp'!#REF!
Name CRA2005_: '[2]saisie cabp'!#REF!
Name CRA2006_: '[2]saisie cabp'!#REF!
Name CRA2006_: '[2]saisie cabp'!#REF!
Name CRA2007_: '[2]saisie cabp'!#REF!
Name CRA2007_: '[2]saisie cabp'!#REF!

Sheet 1_HYP SCENARIOS
A1: NOM D'IMPLANTATION DE LA ZMEL
A3: code couleur
A5: Hypothèses paramétrables
A6: hypothèses fixes
A7: Commentaires
A9: Attention les valeurs sont fournies à une date donnée : Mars 2025, certaines hypothèses seront à mettre à jour régulièrement : taux d'intérêt, grille de salaire etc.
A10: Planification et modélisation
A11: Durée de la prospective économique (projection) | B11: 15 | C11: basée sur la durée de l'AOT
A12: Année de réalisation des travaux | B12: 2025
A13: Année de mise en service estimée | B13: 2026
A15: Modalités de gestion de la ZMEL
A16: Mode de gestion envisagé? | B16: Public | C16: liste déroulante
A17: =+IF(B16="PRIVE","Indiquer le nom du futur gestionnaire envisagé :","Indiquer le nom de la Collectivité porteuse du projet :") -> Indiquer le nom de la Collectivité porteuse du projet : | B17: à compléter
A19: Paramètres de coûts
A21: Financement du projet
A22: Financeurs ? | B22: A définir | C22: A lister ici - indiquer le montant total de toutes les subventions obtenues ou potentielles
A23: Des subventions sont-elles attendues ? | B23: Non | C23: liste déroulante
A24: Taux de subvention maximum | B24: 0 | C24: =IF(B23="Oui","Veuillez renseigner la cellule de gauche","")
A25: Un autofinancement est il prévu ? | B25: Non | C25: liste déroulante
A26: Si oui, quel est le montant ? | C26: =IF(B25="Oui","Veuillez renseigner la cellule de gauche et indiquer ici la valeur de la part sur fonds propres en €","")
A27: Coût d'investissement du projet | B27: ='2_HYP_COUTS'!C17 -> 0 | C27: Renvoi vers les coûts d'investissement
A28: Montant financé/subventionné | B28: =B24*B27 -> 0
A29: Reste à financer | B29: =B27-B28-B26 -> 0 | C29: charges d'intérêts calculées sur la base de ce montant restant à financer
A31: Hypothèses conditions d'emprunt - public (Collectivité)
A32: Taux | B32: 0.045 | C32: Échanges avec Madame YANG-TING Muriel du 27.01.2025
A33: Durée | B33: 15 | C33: Simplification sur la base de l'AOT
A35: Hypothèses conditions d'emprunt - privé (Délégataire)
A36: Taux | B36: 0.033 | C36: https://www.tresor.economie.gouv.fr/Articles/2018/07/27/taux-moyen-de-rendement-des-obligations-des-societes-privees-tmo
A37: Durée | B37: 15
A39: Hypothèses REDEVANCE DOMANIALE
A40: Redevance domaniale - en Régie | B40: 100 | C40: Part fixe uniquement
A42: Redevance domaniale - en DSP - % | B42: 1 | C42: % de la part fixe du cas "Régie"
A44: Hypothèses spécifiques DSP
A45: Hypothèse de reversement du fermier vers la régie sous forme de redevance | B45: 0.01
A47: Hypothèses SALAIRES | B47: 0.1
A48: salaire brut annuel d’un technicien territorial 1er échelon | B48: =3150*12 -> 37800 | C48: REX Gabriel CONESA
A49: salaire brut mensuel d’un technicien territorial 1er échelon | B49: 3150 | C49: REX Gabriel CONESA
A50: Salaire brut mensuel d'un salarié de la fonction cadre privée : | B50: 3500 | C50: Grille des salaires - Convention syntec - REX BRLI
A52: Hypothèse mutualisation des moyens humains ? | B52: Non | C52: Liste déroulante
A53: Équivalent temps plein : | C53: =IF(B52="Oui","Indiquer au format nombre 1 chiffre après la virgule le lombre d'ETP/an nécessaire avec mutualisation","Si, non, l'outil tiendra compte d'au minima 1 ETP/an,calculé automatiquement dans l'onglet HYP_COUTS") -> Si, non, l'outil tiendra compte d'au minima 1 ETP/an,calculé automatiquement dans l'onglet HYP_COUTS

Sheet 2_HYP_COUTS
A3: Répartition des mouillages
A4: Taille navires | B4: ='4_HYP RECETTES_Croisière '!B3 -> <8 m | C4: ='4_HYP RECETTES_Croisière '!C3 -> 8 - 15 m | D4: ='4_HYP RECETTES_Croisière '!D3 -> >15 m | E4: Total
A5: Total bouées | E5: =+SUM(B5:D5) -> 0 | F5: Sur la base du REX Martinique
A6: Part / total bouées | E6: =E5/$E$5 -> #DIV/0!
A8: ETAPE 1 : Connaissez vous les coûts globaux (travaux + étude + aléas) de la ZMEL ? | C8: Oui | D8: liste déroulante
C9: =IF(C8="Oui","Indiquer les coûts dans la cellule C23","Inspirez vous des ratios et compléter la cellule C11 à C14 en la multipliant avec la E5") -> Indiquer les coûts dans la cellule C23
A10: Coûts d'investissement | B10: Unités | C10: Montants | D10: Commentaires | F10: REX coûts travaux pour les bouées/mouillages | G10: Nombre de mouillages | H10: Montants | I10: SITES
A11: Travaux d'installation de la ZMEL | B11: 5 à 10 000 €/bouée | D11: REX BRLI + Benchmark Martiniquais | F11: Havre trinité | G11: 100 | H11: 500000 | I11: SITES POTENTIELS TRINITE
A12: Autres coûts d'investissement | D12: Si connu l'ajouter en C12 | F12: Baie du Trésor | G12: 20 | H12: 100000
A13: Aléas | B13: 0.1 | D13: Si connu l'ajouter en C13 | F13: Anse Spoutourne | G13: 100 | H13: 500000
A14: Coût des études (toutes études confondues) | B14: 5000 | D14: REX BRLI
A15: Achat d'un bateau ? | B15: Non | C15: =IF(B15="Oui",50000,0) -> 0 | D15: Liste déroulante ; recommandation achat d'un zodiaque : 50 000 € minimum | F15: Baie de Cayol | G15: 100 | H15: 500000 | I15: SITES POTENTIELS AU ROBERT
F16: Baie de Pointe Rouge | G16: 45 | H16: 225000
A17: Coûts d'investissement : | C17: =+SUM(C11:C15) -> 0 | F17: Baie des requins | G17: 90 | H17: 450000
A18: Coûts d'investissement par place : | C18: =C17/E5 -> #DIV/0! | F18: Baie entre Pointe Hyacinthe et Pointe Sable blanc | G18: 65 | H18: 325000
F19: Baie de Saintpée | G19: 100 | H19: 500000
F20: Ilet Chancel | G20: 10 | H20: 50000
A21: ETAPE 2 : Connaissez vous les coûts d'exploitation et de maintenance de la ZMEL ? | C21: Non | D21: liste déroulante | F21: Ilet de la Grotte | G21: 10 | H21: 50000
C22: =IF(C21="Oui","Indiquer les coûts dans la cellule C23","Inspirez vous des ratios et compléter la cellule C23 en la multipliant avec la E5") -> Inspirez vous des ratios et compléter la cellule C23 en la multipliant avec la E5 | F22: Ilet Madame | G22: 25 | H22: 125000
A23: Estimation des coûts d'exploitation, maintenance | B23: Unités | C23: Montants | D23: Commentaires
A24: Exploitation et Maintenance annuelle de la ZMEL | B24: 1500 | D24: liste déroulante avec hyp. Basse moyenne et forte - REX Anses d'Arlet | G24: =+SUMPRODUCT(H11:H22)/SUMPRODUCT(G11:G22) -> 5000
A25: Autres frais d'exploitation | F25: Saint Pierre + Carbet | G25: 206 | H25: 1985000
A26: Suivis environnementaux du chantier et mesures d’accompagnement | B26: FORFAIT | D26: Si connu l'ajouter en C25 | G26: =+H25/G25 -> 9635.9223
A27: Frais administratifs et financiers
A28: Charges d'intérêt d'emprunt bancaire | C28: =-PMT('1_HYP SCENARIOS'!B32,'1_HYP SCENARIOS'!B33,C17)*(1-'1_HYP SCENARIOS'!B24) -> 0 | D28: charges intérêts + capital
A29: Police d’assurance du gestionnaire | B29: €/an
A30: Redevance domaniale_REGIE | B30: €/ancrage/an | C30: =IF('1_HYP SCENARIOS'!$B$16="Public",'1_HYP SCENARIOS'!$B$40*'2_HYP_COUTS'!$E$5,"") -> 0 | D30: =IF('1_HYP SCENARIOS'!$B$16="Public","Renseigner la cellule C29","") -> Renseigner la cellule C29
A31: Redevance domaniale - DSP | B31: €/ancrage/an | C31: =IF('1_HYP SCENARIOS'!B16="Prive",'1_HYP SCENARIOS'!B42*'1_HYP SCENARIOS'!B40*'2_HYP_COUTS'!E5,"") | D31: =IF('1_HYP SCENARIOS'!B16="Prive","Renseigner la cellule C30","")
A32: Charges fonctionnement administratif | B32: ETP en €/an
A33: Mutualisation ? | B33: ='1_HYP SCENARIOS'!B52 -> Non | C33: =IF(B33="Oui",'1_HYP SCENARIOS'!$B$53*'1_HYP SCENARIOS'!$B$48,'1_HYP SCENARIOS'!$B$48) -> 37800 | D33: 1 ETP /AN
A34: Maitrise d'ouvrage pendant les travaux (20% sur 8 mois d'un EQ temps plein) | B34: ETP en €/an | C34: =20%*(8/12)*'1_HYP SCENARIOS'!B48 -> 5040 | D34: Grille des salaires - Convention syntec
A36: TOTAL Coûts d'exploitation-maintenance | C36: =+SUM(C24:C34) -> 42840
A37: Coûts d'exploitation et de maintenance/ bouée | C37: =C36/E5 -> #DIV/0!
A38: Hypothèse de durée d'amortissement des études et installations | C38: =+'1_HYP SCENARIOS'!B11 -> 15

Sheet 3_HYP RECETTES_démarrage
A1: Répartition des tailles de navires | R1: Rex Marina du Marin | U1: https://www.marina-martinique.fr/
A2: Soit utilisation de la clé proposée en ligne 5 soit création de la clé de répartition à partir du nombre total de bouées
A3: Longueurs (m) | B3: <8 m | C3: 8 - 15 m | D3: >15 m | E3: TOTAL
A4: Nombre de bouées | E4: 100
B5: =B4/$E$4 -> 0 | C5: =C4/$E$4 -> 0 | D5: =D4/$E$4 -> 0 | E5: =E4/$E$4 -> 1
A6: Nous recommandons : | B6: 0.2 | C6: 0.5 | D6: 0.3 | E6: =SUM(B6:D6) -> 1 | F6: Répartition sur la base de l'étude de fréquentation de Grande Baie (yc Anses d'Arlet)
A8: Répartition de la présence des navires
B9: Journalier | C9: nocturne | D9: mensuel | E9: annuel
A10: Répartition choisie :
A11: Nous recommandons : | B11: 0.35 | C11: 0.15 | D11: 0.3 | E11: 0.2
A12: Tarif HT appliqué Marina du Marin | R12: Saint Pierre
A13: Longueurs (m) | B13: < 8 m | F13: 8 - 15 m | J13: > 15 m
B14: Tarif Jour | C14: Tarif nuit | D14: Tarif au mois | E14: Tarif à l'année | F14: Tarif Jour | G14: Tarif nuit | H14: Tarif au mois | I14: Tarif à l'année | J14: Tarif Jour | K14: Tarif nuit | L14: Tarif au mois | M14: Tarif à l'année
A15: Janvier | B15: 10 | D15: 79 | E15: 950 | F15: 14 | H15: 110 | I15: 1320 | J15: 18 | L15: 160 | M15: 1920
A16: Février | B16: 10 | D16: 79 | F16: 14 | H16: 110 | J16: 18 | L16: 160
A17: Mars | B17: 10 | D17: 79 | F17: 14 | H17: 110 | J17: 18 | L17: 160
A18: Avril | B18: 10 | D18: 79 | F18: 14 | H18: 110 | J18: 18 | L18: 160
A19: Mai | B19: 10 | D19: 79 | F19: 14 | H19: 110 | J19: 18 | L19: 160
A20: Juin | B20: 10 | D20: 79 | F20: 14 | H20: 110 | J20: 18 | L20: 160
A21: Juillet | B21: 10 | D21: 79 | F21: 14 | H21: 110 | J21: 18 | L21: 160
A22: Août | B22: 10 | D22: 79 | F22: 14 | H22: 110 | J22: 18 | L22: 160
A23: Septembre | B23: 10 | D23: 79 | F23: 14 | H23: 110 | J23: 18 | L23: 160
A24: Octobre | B24: 10 | D24: 79 | F24: 14 | H24: 110 | J24: 18 | L24: 160 | R24: Etang Z'abricots
A25: Novembre | B25: 10 | D25: 79 | F25: 14 | H25: 110 | J25: 18 | L25: 160
A26: Décembre | B26: 10 | D26: 79 | F26: 14 | H26: 110 | J26: 18 | L26: 160
A29: Trois premières années d'exploitation : hypothèses d'activité et de fréquentation | F29: Fréquentation par taille de navire /jour | I29: Fréquentation par taille de navire /nuit | L29: Fréquentation par taille de navire /mois | O29: Fréquentation par taille de navire /an | R29: recettes TOTALES facturées
A31: HYPOTHESES saisonnières | F31: =B3 -> <8 m | G31: =C3 -> 8 - 15 m | H31: =D3 -> >15 m | I31: =B3 -> <8 m | J31: =C3 -> 8 - 15 m | K31: =D3 -> >15 m | L31: =B3 -> <8 m | M31: =C3 -> 8 - 15 m | N31: =D3 -> >15 m | O31: =B3 -> <8 m | P31: =C3 -> 8 - 15 m | Q31: =D3 -> >15 m | R31: =B3 -> <8 m | S31: =C3 -> 8 - 15 m | T31: =D3 -> >15 m
A32: TAUX occupation :
A33: par jour base mois j ouvres | C33: Jours/mois | D33: Nb navire/jour | E33: nb navire/mois | F33: =B6 -> 0.2 | G33: =C6 -> 0.5 | H33: =D6 -> 0.3 | I33: =B6 -> 0.2 | J33: =C6 -> 0.5 | K33: =D6 -> 0.3 | L33: =+B6 -> 0.2 | M33: =+C6 -> 0.5 | N33: =+D6 -> 0.3 | O33: =B6 -> 0.2 | P33: =C6 -> 0.5 | Q33: =D6 -> 0.3
A34: 0.3 | B34: Janvier | C34: 31 | D34: =A34*$E$4 -> 30 | E34: =D34*C34 -> 930 | F34: =$F$33*D34*$B$10 -> 0 | G34: =$G$33*D34*$B$10 -> 0 | H34: =$H$33*D34*$B$10 -> 0 | I34: =$I$33*D34*$C$10 -> 0 | J34: =$J$33*D34*$C$10 -> 0 | K34: =$K$33*D34*$C$10 -> 0 | L34: =E34*$L$33*$D$10 -> 0 | M34: =E34*$M$33*$D$10 -> 0 | N34: =$N$33*E34*$D$10 -> 0 | O34: =$E$46*O33*$E$10 -> 0 | P34: =$E$46*P33*$E$10 -> 0 | Q34: =$E$46*Q33*$E$10 -> 0 | R34: =F34*B15+I34*C15+L34*D15 -> 0 | S34: =G34*F15+J34*G15+M34*H15 -> 0 | T34: =H34*J15+K34*K15+N34*L15 -> 0
A35: 0.3 | B35: Février | C35: 28 | D35: =A35*$E$4 -> 30 | E35: =D35*C35 -> 840 | F35: =$F$33*D35*$B$10 -> 0 | G35: =$G$33*D35*$B$10 -> 0 | H35: =$H$33*D35*$B$10 -> 0 | I35: =$I$33*D35*$C$10 -> 0 | J35: =$J$33*D35*$C$10 -> 0 | K35: =$K$33*D35*$C$10 -> 0 | L35: =E35*$L$33*$D$10 -> 0 | M35: =E35*$M$33*$D$10 -> 0 | N35: =$N$33*E35*$D$10 -> 0 | R35: =F35*B16+I35*C16+L35*D16 -> 0 | S35: =G35*F16+J35*G16+M35*H16 -> 0 | T35: =H35*J16+K35*K16+N35*L16 -> 0
A36: 0.3 | B36: Mars | C36: 31 | D36: =A36*$E$4 -> 30 | E36: =D36*C36 -> 930 | F36: =$F$33*D36*$B$10 -> 0 | G36: =$G$33*D36*$B$10 -> 0 | H36: =$H$33*D36*$B$10 -> 0 | I36: =$I$33*D36*$C$10 -> 0 | J36: =$J$33*D36*$C$10 -> 0 | K36: =$K$33*D36*$C$10 -> 0 | L36: =E36*$L$33*$D$10 -> 0 | M36: =E36*$M$33*$D$10 -> 0 | N36: =$N$33*E36*$D$10 -> 0 | R36: =F36*B17+I36*C17+L36*D17 -> 0 | S36: =G36*F17+J36*G17+M36*H17 -> 0 | T36: =H36*J17+K36*K17+N36*L17 -> 0
A37: 0.3 | B37: Avril | C37: 30 | D37: =A37*$E$4 -> 30 | E37: =D37*C37 -> 900 | F37: =$F$33*D37*$B$10 -> 0 | G37: =$G$33*D37*$B$10 -> 0 | H37: =$H$33*D37*$B$10 -> 0 | I37: =$I$33*D37*$C$10 -> 0 | J37: =$J$33*D37*$C$10 -> 0 | K37: =$K$33*D37*$C$10 -> 0 | L37: =E37*$L$33*$D$10 -> 0 | M37: =E37*$M$33*$D$10 -> 0 | N37: =$N$33*E37*$D$10 -> 0 | R37: =F37*B18+I37*C18+L37*D18 -> 0 | S37: =G37*F18+J37*G18+M37*H18 -> 0 | T37: =H37*J18+K37*K18+N37*L18 -> 0
A38: 0.3 | B38: Mai | C38: 31 | D38: =A38*$E$4 -> 30 | E38: =D38*C38 -> 930 | F38: =$F$33*D38*$B$10 -> 0 | G38: =$G$33*D38*$B$10 -> 0 | H38: =$H$33*D38*$B$10 -> 0 | I38: =$I$33*D38*$C$10 -> 0 | J38: =$J$33*D38*$C$10 -> 0 | K38: =$K$33*D38*$C$10 -> 0 | L38: =E38*$L$33*$D$10 -> 0 | M38: =E38*$M$33*$D$10 -> 0 | N38: =$N$33*E38*$D$10 -> 0 | R38: =F38*B19+I38*C19+L38*D19 -> 0 | S38: =G38*F19+J38*G19+M38*H19 -> 0 | T38: =H38*J19+K38*K19+N38*L19 -> 0
A39: 0.3 | B39: Juin | C39: 30 | D39: =A39*$E$4 -> 30 | E39: =D39*C39 -> 900 | F39: =$F$33*D39*$B$10 -> 0 | G39: =$G$33*D39*$B$10 -> 0 | H39: =$H$33*D39*$B$10 -> 0 | I39: =$I$33*D39*$C$10 -> 0 | J39: =$J$33*D39*$C$10 -> 0 | K39: =$K$33*D39*$C$10 -> 0 | L39: =E39*$L$33*$D$10 -> 0 | M39: =E39*$M$33*$D$10 -> 0 | N39: =$N$33*E39*$D$10 -> 0 | R39: =F39*B20+I39*C20+L39*D20 -> 0 | S39: =G39*F20+J39*G20+M39*H20 -> 0 | T39: =H39*J20+K39*K20+N39*L20 -> 0
A40: 0.3 | B40: Juillet | C40: 31 | D40: =A40*$E$4 -> 30 | E40: =D40*C40 -> 930 | F40: =$F$33*D40*$B$10 -> 0 | G40: =$G$33*D40*$B$10 -> 0 | H40: =$H$33*D40*$B$10 -> 0 | I40: =$I$33*D40*$C$10 -> 0 | J40: =$J$33*D40*$C$10 -> 0 | K40: =$K$33*D40*$C$10 -> 0 | L40: =E40*$L$33*$D$10 -> 0 | M40: =E40*$M$33*$D$10 -> 0 | N40: =$N$33*E40*$D$10 -> 0 | R40: =F40*B21+I40*C21+L40*D21 -> 0 | S40: =G40*F21+J40*G21+M40*H21 -> 0 | T40: =H40*J21+K40*K21+N40*L21 -> 0
A41: 0.3 | B41: Août | C41: 31 | D41: =A41*$E$4 -> 30 | E41: =D41*C41 -> 930 | F41: =$F$33*D41*$B$10 -> 0 | G41: =$G$33*D41*$B$10 -> 0 | H41: =$H$33*D41*$B$10 -> 0 | I41: =$I$33*D41*$C$10 -> 0 | J41: =$J$33*D41*$C$10 -> 0 | K41: =$K$33*D41*$C$10 -> 0 | L41: =E41*$L$33*$D$10 -> 0 | M41: =E41*$M$33*$D$10 -> 0 | N41: =$N$33*E41*$D$10 -> 0 | R41: =F41*B22+I41*C22+L41*D22 -> 0 | S41: =G41*F22+J41*G22+M41*H22 -> 0 | T41: =H41*J22+K41*K22+N41*L22 -> 0
A42: 0.5 | B42: Septembre | C42: 30 | D42: =A42*$E$4 -> 50 | E42: =D42*C42 -> 1500 | F42: =$F$33*D42*$B$10 -> 0 | G42: =$G$33*D42*$B$10 -> 0 | H42: =$H$33*D42*$B$10 -> 0 | I42: =$I$33*D42*$C$10 -> 0 | J42: =$J$33*D42*$C$10 -> 0 | K42: =$K$33*D42*$C$10 -> 0 | L42: =E42*$L$33*$D$10 -> 0 | M42: =E42*$M$33*$D$10 -> 0 | N42: =$N$33*E42*$D$10 -> 0 | R42: =F42*B23+I42*C23+L42*D23 -> 0 | S42: =G42*F23+J42*G23+M42*H23 -> 0 | T42: =H42*J23+K42*K23+N42*L23 -> 0
A43: 0.5 | B43: Octobre | C43: 31 | D43: =A43*$E$4 -> 50 | E43: =D43*C43 -> 1550 | F43: =$F$33*D43*$B$10 -> 0 | G43: =$G$33*D43*$B$10 -> 0 | H43: =$H$33*D43*$B$10 -> 0 | I43: =$I$33*D43*$C$10 -> 0 | J43: =$J$33*D43*$C$10 -> 0 | K43: =$K$33*D43*$C$10 -> 0 | L43: =E43*$L$33*$D$10 -> 0 | M43: =E43*$M$33*$D$10 -> 0 | N43: =$N$33*E43*$D$10 -> 0 | R43: =F43*B24+I43*C24+L43*D24 -> 0 | S43: =G43*F24+J43*G24+M43*H24 -> 0 | T43: =H43*J24+K43*K24+N43*L24 -> 0
A44: 0.3 | B44: Novembre | C44: 30 | D44: =A44*$E$4 -> 30 | E44: =D44*C44 -> 900 | F44: =$F$33*D44*$B$10 -> 0 | G44: =$G$33*D44*$B$10 -> 0 | H44: =$H$33*D44*$B$10 -> 0 | I44: =$I$33*D44*$C$10 -> 0 | J44: =$J$33*D44*$C$10 -> 0 | K44: =$K$33*D44*$C$10 -> 0 | L44: =E44*$L$33*$D$10 -> 0 | M44: =E44*$M$33*$D$10 -> 0 | N44: =$N$33*E44*$D$10 -> 0 | R44: =F44*B25+I44*C25+L44*D25 -> 0 | S44: =G44*F25+J44*G25+M44*H25 -> 0 | T44: =H44*J25+K44*K25+N44*L25 -> 0
...

Sheet 4_HYP RECETTES_Croisière 
A1: Répartition des tailles de navires | R1: Rex Marina du Marin | U1: https://www.marina-martinique.fr/
A2: Soit utilisation de la clé proposée en ligne 5 soit création de la clé de répartition a partir du nombre total de bouées
A3: Longueurs (m) | B3: <8 m | C3: 8 - 15 m | D3: >15 m | E3: TOTAL
A4: Nombre de bouées | E4: 100
B5: =B4/$E$4 -> 0 | C5: =C4/$E$4 -> 0 | D5: =D4/$E$4 -> 0 | E5: =E4/$E$4 -> 1
A6: Nous recommandons : | B6: 0.2 | C6: 0.5 | D6: 0.3 | E6: =SUM(B6:D6) -> 1 | F6: Répartition sur la base de l'étude de fréquentation de grande baie (yc Anses d'Arlet)
A8: Répartition de la présence des navires
B9: Journalier | C9: nocturne | D9: mensuel | E9: annuel
A10: Répartition choisie :
A11: Nous recommandons : | B11: 0.35 | C11: 0.15 | D11: 0.3 | E11: 0.2
A12: Tarif HT appliqué Marina du Marin | R12: Saint Pierre
A13: Longueurs (m) | B13: <8 m | F13: 8 - 15 m | J13: >15 m
B14: Tarif Jour | C14: Tarif nuit | D14: Tarif au mois | E14: Tarif à l'année | F14: Tarif Jour | G14: Tarif nuit | H14: Tarif au mois | I14: Tarif à l'année | J14: Tarif Jour | K14: Tarif nuit | L14: Tarif au mois | M14: Tarif à l'année
A15: Janvier | B15: 10 | D15: 79 | E15: 950 | F15: 14 | H15: 110 | I15: 1320 | J15: 18 | L15: 160 | M15: 1920
A16: Février | B16: 10 | D16: 79 | F16: 14 | H16: 110 | J16: 18 | L16: 160
A17: Mars | B17: 10 | D17: 79 | F17: 14 | H17: 110 | J17: 18 | L17: 160
A18: Avril | B18: 10 | D18: 79 | F18: 14 | H18: 110 | J18: 18 | L18: 160
A19: Mai | B19: 10 | D19: 79 | F19: 14 | H19: 110 | J19: 18 | L19: 160
A20: Juin | B20: 10 | D20: 79 | F20: 14 | H20: 110 | J20: 18 | L20: 160
A21: Juillet | B21: 10 | D21: 79 | F21: 14 | H21: 110 | J21: 18 | L21: 160
A22: Août | B22: 10 | D22: 79 | F22: 14 | H22: 110 | J22: 18 | L22: 160
A23: Septembre | B23: 10 | D23: 79 | F23: 14 | H23: 110 | J23: 18 | L23: 160
A24: Octobre | B24: 10 | D24: 79 | F24: 14 | H24: 110 | J24: 18 | L24: 160 | R24: Étang Z'abricots
A25: Novembre | B25: 10 | D25: 79 | F25: 14 | H25: 110 | J25: 18 | L25: 160
A26: Décembre | B26: 10 | D26: 79 | F26: 14 | H26: 110 | J26: 18 | L26: 160
A29: ANNEES 3 à 15 d'exploitation de la ZMEL : hypothèses d'activité et de fréquentation | F29: Fréquentation par taille de navire /jour | I29: Fréquentation par taille de navire /nuit | L29: Fréquentation par taille de navire /mois | O29: Fréquentation par taille de navire /an | R29: recettes TOTALES facturées
A31: HYPOTHESES saisonnières | F31: =B3 -> <8 m | G31: =C3 -> 8 - 15 m | H31: =D3 -> >15 m | I31: =B3 -> <8 m | J31: =C3 -> 8 - 15 m | K31: =D3 -> >15 m | L31: =B3 -> <8 m | M31: =C3 -> 8 - 15 m | N31: =D3 -> >15 m | O31: =B3 -> <8 m | P31: =C3 -> 8 - 15 m | Q31: =D3 -> >15 m | R31: =B3 -> <8 m | S31: =C3 -> 8 - 15 m | T31: =D3 -> >15 m
A32: TAUX occupation :
A33: par jour base mois j ouvrés | C33: Jours/mois | D33: Nb navire/jour | E33: nb navire/mois | F33: =B6 -> 0.2 | G33: =C6 -> 0.5 | H33: =D6 -> 0.3 | I33: =B6 -> 0.2 | J33: =C6 -> 0.5 | K33: =D6 -> 0.3 | L33: =+B6 -> 0.2 | M33: =+C6 -> 0.5 | N33: =+D6 -> 0.3 | O33: =B6 -> 0.2 | P33: =C6 -> 0.5 | Q33: =D6 -> 0.3
A34: 0.6 | B34: Janvier | C34: 31 | D34: =A34*$E$4 -> 60 | E34: =D34*C34 -> 1860 | F34: =$F$33*D34*$B$10 -> 0 | G34: =$G$33*D34*$B$10 -> 0 | H34: =$H$33*D34*$B$10 -> 0 | I34: =$I$33*D34*$C$10 -> 0 | J34: =$J$33*D34*$C$10 -> 0 | K34: =$K$33*D34*$C$10 -> 0 | L34: =E34*$L$33*$D$10 -> 0 | M34: =E34*$M$33*$D$10 -> 0 | N34: =$N$33*E34*$D$10 -> 0 | O34: =$E$46*O33*$E$10 -> 0 | P34: =$E$46*P33*$E$10 -> 0 | Q34: =$E$46*Q33*$E$10 -> 0 | R34: =F34*B15+I34*C15+L34*D15 -> 0 | S34: =G34*F15+J34*G15+M34*H15 -> 0 | T34: =H34*J15+K34*K15+N34*L15 -> 0
A35: 0.6 | B35: Février | C35: 28 | D35: =A35*$E$4 -> 60 | E35: =D35*C35 -> 1680 | F35: =$F$33*D35*$B$10 -> 0 | G35: =$G$33*D35*$B$10 -> 0 | H35: =$H$33*D35*$B$10 -> 0 | I35: =$I$33*D35*$C$10 -> 0 | J35: =$J$33*D35*$C$10 -> 0 | K35: =$K$33*D35*$C$10 -> 0 | L35: =E35*$L$33*$D$10 -> 0 | M35: =E35*$M$33*$D$10 -> 0 | N35: =$N$33*E35*$D$10 -> 0 | R35: =F35*B16+I35*C16+L35*D16 -> 0 | S35: =G35*F16+J35*G16+M35*H16 -> 0 | T35: =H35*J16+K35*K16+N35*L16 -> 0
A36: 0.6 | B36: Mars | C36: 31 | D36: =A36*$E$4 -> 60 | E36: =D36*C36 -> 1860 | F36: =$F$33*D36*$B$10 -> 0 | G36: =$G$33*D36*$B$10 -> 0 | H36: =$H$33*D36*$B$10 -> 0 | I36: =$I$33*D36*$C$10 -> 0 | J36: =$J$33*D36*$C$10 -> 0 | K36: =$K$33*D36*$C$10 -> 0 | L36: =E36*$L$33*$D$10 -> 0 | M36: =E36*$M$33*$D$10 -> 0 | N36: =$N$33*E36*$D$10 -> 0 | R36: =F36*B17+I36*C17+L36*D17 -> 0 | S36: =G36*F17+J36*G17+M36*H17 -> 0 | T36: =H36*J17+K36*K17+N36*L17 -> 0
A37: 0.6 | B37: Avril | C37: 30 | D37: =A37*$E$4 -> 60 | E37: =D37*C37 -> 1800 | F37: =$F$33*D37*$B$10 -> 0 | G37: =$G$33*D37*$B$10 -> 0 | H37: =$H$33*D37*$B$10 -> 0 | I37: =$I$33*D37*$C$10 -> 0 | J37: =$J$33*D37*$C$10 -> 0 | K37: =$K$33*D37*$C$10 -> 0 | L37: =E37*$L$33*$D$10 -> 0 | M37: =E37*$M$33*$D$10 -> 0 | N37: =$N$33*E37*$D$10 -> 0 | R37: =F37*B18+I37*C18+L37*D18 -> 0 | S37: =G37*F18+J37*G18+M37*H18 -> 0 | T37: =H37*J18+K37*K18+N37*L18 -> 0
A38: 0.6 | B38: Mai | C38: 31 | D38: =A38*$E$4 -> 60 | E38: =D38*C38 -> 1860 | F38: =$F$33*D38*$B$10 -> 0 | G38: =$G$33*D38*$B$10 -> 0 | H38: =$H$33*D38*$B$10 -> 0 | I38: =$I$33*D38*$C$10 -> 0 | J38: =$J$33*D38*$C$10 -> 0 | K38: =$K$33*D38*$C$10 -> 0 | L38: =E38*$L$33*$D$10 -> 0 | M38: =E38*$M$33*$D$10 -> 0 | N38: =$N$33*E38*$D$10 -> 0 | R38: =F38*B19+I38*C19+L38*D19 -> 0 | S38: =G38*F19+J38*G19+M38*H19 -> 0 | T38: =H38*J19+K38*K19+N38*L19 -> 0
A39: 0.6 | B39: Juin | C39: 30 | D39: =A39*$E$4 -> 60 | E39: =D39*C39 -> 1800 | F39: =$F$33*D39*$B$10 -> 0 | G39: =$G$33*D39*$B$10 -> 0 | H39: =$H$33*D39*$B$10 -> 0 | I39: =$I$33*D39*$C$10 -> 0 | J39: =$J$33*D39*$C$10 -> 0 | K39: =$K$33*D39*$C$10 -> 0 | L39: =E39*$L$33*$D$10 -> 0 | M39: =E39*$M$33*$D$10 -> 0 | N39: =$N$33*E39*$D$10 -> 0 | R39: =F39*B20+I39*C20+L39*D20 -> 0 | S39: =G39*F20+J39*G20+M39*H20 -> 0 | T39: =H39*J20+K39*K20+N39*L20 -> 0
A40: 0.6 | B40: Juillet | C40: 31 | D40: =A40*$E$4 -> 60 | E40: =D40*C40 -> 1860 | F40: =$F$33*D40*$B$10 -> 0 | G40: =$G$33*D40*$B$10 -> 0 | H40: =$H$33*D40*$B$10 -> 0 | I40: =$I$33*D40*$C$10 -> 0 | J40: =$J$33*D40*$C$10 -> 0 | K40: =$K$33*D40*$C$10 -> 0 | L40: =E40*$L$33*$D$10 -> 0 | M40: =E40*$M$33*$D$10 -> 0 | N40: =$N$33*E40*$D$10 -> 0 | R40: =F40*B21+I40*C21+L40*D21 -> 0 | S40: =G40*F21+J40*G21+M40*H21 -> 0 | T40: =H40*J21+K40*K21+N40*L21 -> 0
A41: 0.6 | B41: Août | C41: 31 | D41: =A41*$E$4 -> 60 | E41: =D41*C41 -> 1860 | F41: =$F$33*D41*$B$10 -> 0 | G41: =$G$33*D41*$B$10 -> 0 | H41: =$H$33*D41*$B$10 -> 0 | I41: =$I$33*D41*$C$10 -> 0 | J41: =$J$33*D41*$C$10 -> 0 | K41: =$K$33*D41*$C$10 -> 0 | L41: =E41*$L$33*$D$10 -> 0 | M41: =E41*$M$33*$D$10 -> 0 | N41: =$N$33*E41*$D$10 -> 0 | R41: =F41*B22+I41*C22+L41*D22 -> 0 | S41: =G41*F22+J41*G22+M41*H22 -> 0 | T41: =H41*J22+K41*K22+N41*L22 -> 0
A42: 1 | B42: Septembre | C42: 30 | D42: =A42*$E$4 -> 100 | E42: =D42*C42 -> 3000 | F42: =$F$33*D42*$B$10 -> 0 | G42: =$G$33*D42*$B$10 -> 0 | H42: =$H$33*D42*$B$10 -> 0 | I42: =$I$33*D42*$C$10 -> 0 | J42: =$J$33*D42*$C$10 -> 0 | K42: =$K$33*D42*$C$10 -> 0 | L42: =E42*$L$33*$D$10 -> 0 | M42: =E42*$M$33*$D$10 -> 0 | N42: =$N$33*E42*$D$10 -> 0 | R42: =F42*B23+I42*C23+L42*D23 -> 0 | S42: =G42*F23+J42*G23+M42*H23 -> 0 | T42: =H42*J23+K42*K23+N42*L23 -> 0
A43: 1 | B43: Octobre | C43: 31 | D43: =A43*$E$4 -> 100 | E43: =D43*C43 -> 3100 | F43: =$F$33*D43*$B$10 -> 0 | G43: =$G$33*D43*$B$10 -> 0 | H43: =$H$33*D43*$B$10 -> 0 | I43: =$I$33*D43*$C$10 -> 0 | J43: =$J$33*D43*$C$10 -> 0 | K43: =$K$33*D43*$C$10 -> 0 | L43: =E43*$L$33*$D$10 -> 0 | M43: =E43*$M$33*$D$10 -> 0 | N43: =$N$33*E43*$D$10 -> 0 | R43: =F43*B24+I43*C24+L43*D24 -> 0 | S43: =G43*F24+J43*G24+M43*H24 -> 0 | T43: =H43*J24+K43*K24+N43*L24 -> 0
A44: 0.6 | B44: Novembre | C44: 30 | D44: =A44*$E$4 -> 60 | E44: =D44*C44 -> 1800 | F44: =$F$33*D44*$B$10 -> 0 | G44: =$G$33*D44*$B$10 -> 0 | H44: =$H$33*D44*$B$10 -> 0 | I44: =$I$33*D44*$C$10 -> 0 | J44: =$J$33*D44*$C$10 -> 0 | K44: =$K$33*D44*$C$10 -> 0 | L44: =E44*$L$33*$D$10 -> 0 | M44: =E44*$M$33*$D$10 -> 0 | N44: =$N$33*E44*$D$10 -> 0 | R44: =F44*B25+I44*C25+L44*D25 -> 0 | S44: =G44*F25+J44*G25+M44*H25 -> 0 | T44: =H44*J25+K44*K25+N44*L25 -> 0
...

Sheet 5_Simulat°_équilibre_Régie
A1: Budget prospectif REGIE A AUTONOMIE FINANCIERE
B2: EN € COURANTS | C2: ='1_HYP SCENARIOS'!B12 -> 2025 | D2: ='1_HYP SCENARIOS'!B13 -> 2026 | E2: 2025 | F2: 2026 | G2: 2027 | H2: 2028 | I2: 2029 | J2: 2030 | K2: 2031 | L2: 2032 | M2: 2033 | N2: 2034 | O2: 2035 | P2: 2036 | Q2: 2037 | R2: 2038
C3: 0 | D3: 1 | E3: 2 | F3: 3 | G3: 4 | H3: 5 | I3: 6 | J3: 7 | K3: 8 | L3: 9 | M3: 10 | N3: 11 | O3: 12 | P3: 13 | Q3: 14 | R3: 15
C4: TRAVAUX | D4: RYTHME DE DEMARRAGE | G4: RYTHME DE CROISIERE
A5: SECTION DE FONCTIONNEMENT | B5: Section de fonctionnement
B6: Dépenses
B7: Charges de fonctionnement de la ZMEL (yc Redevance) | D7: ='2_HYP_COUTS'!C24 -> 0 | E7: =D7 -> 0 | F7: =E7 -> 0 | G7: =F7 -> 0 | H7: =G7 -> 0 | I7: =H7 -> 0 | J7: =I7 -> 0 | K7: =J7 -> 0 | L7: =K7 -> 0 | ... R7: =Q7 -> 0
B8: Charges administratives | D8: =+IF('1_HYP SCENARIOS'!$B$16="Public",'2_HYP_COUTS'!C29+'2_HYP_COUTS'!C30+'2_HYP_COUTS'!C33+'2_HYP_COUTS'!C34,"") -> 42840 | E8: =+D8 -> 42840 | F8: =+E8 -> 42840 | G8: =+F8 -> 42840 | H8: =+G8 -> 42840 | I8: =+H8 -> 42840 | J8: =+I8 -> 42840 | K8: =+J8 -> 42840 | L8: =+K8 -> 42840 | ... R8: =+Q8 -> 42840
B9: Charges financières | D9: =-IPMT('1_HYP SCENARIOS'!$B$32,'5_Simulat°_équilibre_Régie'!D3,'1_HYP SCENARIOS'!$B$33,'1_HYP SCENARIOS'!$B$29) -> 0 | E9: =-IPMT('1_HYP SCENARIOS'!$B$32,'5_Simulat°_équilibre_Régie'!E3,'1_HYP SCENARIOS'!$B$33,'1_HYP SCENARIOS'!$B$29) -> 0 | F9: =-IPMT('1_HYP SCENARIOS'!$B$32,'5_Simulat°_équilibre_Régie'!F3,'1_HYP SCENARIOS'!$B$33,'1_HYP SCENARIOS'!$B$29) -> 0 | G9: =-IPMT('1_HYP SCENARIOS'!$B$32,'5_Simulat°_équilibre_Régie'!G3,'1_HYP SCENARIOS'!$B$33,'1_HYP SCENARIOS'!$B$29) -> 0 | H9: =-IPMT('1_HYP SCENARIOS'!$B$32,'5_Simulat°_équilibre_Régie'!H3,'1_HYP SCENARIOS'!$B$33,'1_HYP SCENARIOS'!$B$29) -> 0 | I9: =-IPMT('1_HYP SCENARIOS'!$B$32,'5_Simulat°_équilibre_Régie'!I3,'1_HYP SCENARIOS'!$B$33,'1_HYP SCENARIOS'!$B$29) -> 0 | J9: =-IPMT('1_HYP SCENARIOS'!$B$32,'5_Simulat°_équilibre_Régie'!J3,'1_HYP SCENARIOS'!$B$33,'1_HYP SCENARIOS'!$B$29) -> 0 | K9: =-IPMT('1_HYP SCENARIOS'!$B$32,'5_Simulat°_équilibre_Régie'!K3,'1_HYP SCENARIOS'!$B$33,'1_HYP SCENARIOS'!$B$29) -> 0 | ... R9: =-IPMT('1_HYP SCENARIOS'!$B$32,'5_Simulat°_équilibre_Régie'!R3,'1_HYP SCENARIOS'!$B$33,'1_HYP SCENARIOS'!$B$29) -> 0
B10: Amortissement | D10: ='2_HYP_COUTS'!$C$15/3 -> 0 | E10: ='2_HYP_COUTS'!$C$15/3 -> 0 | F10: ='2_HYP_COUTS'!$C$15/3 -> 0
B11: Total dépenses | C11: =SUM(C7:C10) -> 0 | D11: =SUM(D7:D10) -> 42840 | E11: =SUM(E7:E10) -> 42840 | F11: =SUM(F7:F10) -> 42840 | G11: =SUM(G7:G10) -> 42840 | H11: =SUM(H7:H10) -> 42840 | I11: =SUM(I7:I10) -> 42840 | J11: =SUM(J7:J10) -> 42840 | ... R11: =SUM(R7:R10) -> 42840
B13: Recettes
B14: Produits d'exploitation
B15: Produits du service bouées de mouillage | D15: =SUM(D16:D18) -> 0 | E15: =SUM(E16:E18) -> 0 | F15: =SUM(F16:F18) -> 0 | G15: =SUM(G16:G18) -> 0 | H15: =SUM(H16:H18) -> 0 | I15: =SUM(I16:I18) -> 0 | J15: =SUM(J16:J18) -> 0 | K15: =SUM(K16:K18) -> 0 | ... R15: =SUM(R16:R18) -> 0
B16: ='4_HYP RECETTES_Croisière '!B3 -> <8 m | D16: ='3_HYP RECETTES_démarrage'!R46 -> 0 | E16: =D16 -> 0 | F16: =E16 -> 0 | G16: ='4_HYP RECETTES_Croisière '!R46 -> 0 | H16: =G16 -> 0 | I16: =H16 -> 0 | J16: =I16 -> 0 | K16: =J16 -> 0 | L16: =K16 -> 0 | M16: =L16 -> 0 | N16: =M16 -> 0 | O16: =N16 -> 0 | ... R16: =Q16 -> 0
B17: ='4_HYP RECETTES_Croisière '!C3 -> 8 - 15 m | D17: ='3_HYP RECETTES_démarrage'!S46 -> 0 | E17: =D17 -> 0 | F17: =E17 -> 0 | G17: ='4_HYP RECETTES_Croisière '!S46 -> 0 | H17: =G17 -> 0 | I17: =H17 -> 0 | J17: =I17 -> 0 | K17: =J17 -> 0 | L17: =K17 -> 0 | M17: =L17 -> 0 | N17: =M17 -> 0 | O17: =N17 -> 0 | ... R17: =Q17 -> 0
B18: ='4_HYP RECETTES_Croisière '!D3 -> >15 m | D18: ='3_HYP RECETTES_démarrage'!T46 -> 0 | E18: =D18 -> 0 | F18: =E18 -> 0 | G18: ='4_HYP RECETTES_Croisière '!T46 -> 0 | H18: =G18 -> 0 | I18: =H18 -> 0 | J18: =I18 -> 0 | K18: =J18 -> 0 | L18: =K18 -> 0 | M18: =L18 -> 0 | N18: =M18 -> 0 | O18: =N18 -> 0 | ... R18: =Q18 -> 0
B19: Si dotation de la régie l'indiquer ici en année 1 :
B20: Total recettes | C20: =SUM(C16:C19) -> 0 | D20: =SUM(D16:D19) -> 0 | E20: =SUM(E16:E19) -> 0 | F20: =SUM(F16:F19) -> 0 | G20: =SUM(G16:G19) -> 0 | H20: =SUM(H16:H19) -> 0 | I20: =SUM(I16:I19) -> 0 | J20: =SUM(J16:J19) -> 0 | ... R20: =SUM(R16:R19) -> 0
B22: Solde section de fonctionnement | D22: =D20-D11 -> -42840 | E22: =E20-E11 -> -42840 | F22: =F20-F11 -> -42840 | G22: =G20-G11 -> -42840 | H22: =H20-H11 -> -42840 | I22: =I20-I11 -> -42840 | J22: =J20-J11 -> -42840 | K22: =K20-K11 -> -42840 | ... R22: =R20-R11 -> -42840
B23: Reprise résultat | E23: =IF(D22>0,D22,"") | F23: =IF(E22>0,E22,"") | G23: =IF(F22>0,F22,"") | H23: =IF(G22>0,G22,"") | I23: =IF(H22>0,H22,"") | J23: =IF(I22>0,I22,"") | K23: =IF(J22>0,J22,"") | L23: =IF(K22>0,K22,"") | ... R23: =IF(Q22>0,Q22,"")
B24: Cumul | D24: =SUM(D22:D23) -> -42840 | E24: =SUM(E22:E23) -> -42840 | F24: =SUM(F22:F23) -> -42840 | G24: =SUM(G22:G23) -> -42840 | H24: =SUM(H22:H23) -> -42840 | I24: =SUM(I22:I23) -> -42840 | J24: =SUM(J22:J23) -> -42840 | K24: =SUM(K22:K23) -> -42840 | ... R24: =SUM(R22:R23) -> -42840
A26: SECTION D'INVESTISSEMENT | B26: Section d'investissement
B27: Dépenses
B28: Emprunts et dettes assimilées | D28: =-PPMT('1_HYP SCENARIOS'!$B$32,'5_Simulat°_équilibre_Régie'!D3,'1_HYP SCENARIOS'!$B$33,'1_HYP SCENARIOS'!$B$29) -> 0 | E28: =-PPMT('1_HYP SCENARIOS'!$B$32,'5_Simulat°_équilibre_Régie'!E3,'1_HYP SCENARIOS'!$B$33,'1_HYP SCENARIOS'!$B$29) -> 0 | F28: =-PPMT('1_HYP SCENARIOS'!$B$32,'5_Simulat°_équilibre_Régie'!F3,'1_HYP SCENARIOS'!$B$33,'1_HYP SCENARIOS'!$B$29) -> 0 | G28: =-PPMT('1_HYP SCENARIOS'!$B$32,'5_Simulat°_équilibre_Régie'!G3,'1_HYP SCENARIOS'!$B$33,'1_HYP SCENARIOS'!$B$29) -> 0 | H28: =-PPMT('1_HYP SCENARIOS'!$B$32,'5_Simulat°_équilibre_Régie'!H3,'1_HYP SCENARIOS'!$B$33,'1_HYP SCENARIOS'!$B$29) -> 0 | I28: =-PPMT('1_HYP SCENARIOS'!$B$32,'5_Simulat°_équilibre_Régie'!I3,'1_HYP SCENARIOS'!$B$33,'1_HYP SCENARIOS'!$B$29) -> 0 | J28: =-PPMT('1_HYP SCENARIOS'!$B$32,'5_Simulat°_équilibre_Régie'!J3,'1_HYP SCENARIOS'!$B$33,'1_HYP SCENARIOS'!$B$29) -> 0 | K28: =-PPMT('1_HYP SCENARIOS'!$B$32,'5_Simulat°_équilibre_Régie'!K3,'1_HYP SCENARIOS'!$B$33,'1_HYP SCENARIOS'!$B$29) -> 0 | ... R28: =-PPMT('1_HYP SCENARIOS'!$B$32,'5_Simulat°_équilibre_Régie'!R3,'1_HYP SCENARIOS'!$B$33,'1_HYP SCENARIOS'!$B$29) -> 0
B29: Immobilisations incorporelles
B30: Immobilisations corporelles | D30: ='2_HYP_COUTS'!$C$15/3 -> 0 | E30: ='2_HYP_COUTS'!$C$15/3 -> 0 | F30: ='2_HYP_COUTS'!$C$15/3 -> 0
B31: Total dépenses | C31: =SUM(C28:C30) -> 0 | D31: =SUM(D28:D30) -> 0 | E31: =SUM(E28:E30) -> 0 | F31: =SUM(F28:F30) -> 0 | G31: =SUM(G28:G30) -> 0 | H31: =SUM(H28:H30) -> 0 | I31: =SUM(I28:I30) -> 0 | J31: =SUM(J28:J30) -> 0 | ... R31: =SUM(R28:R30) -> 0
B33: Recettes
B34: Dotations
B35: Subventions (sur 3 ans) | D35: ='1_HYP SCENARIOS'!$B$24*'2_HYP_COUTS'!$C$17/3 -> 0 | E35: ='1_HYP SCENARIOS'!$B$24*'2_HYP_COUTS'!$C$17/3 -> 0 | F35: ='1_HYP SCENARIOS'!$B$24*'2_HYP_COUTS'!$C$17/3 -> 0
B36: Emprunt | C36: ='1_HYP SCENARIOS'!B29 -> 0
B37: Excédent reporté
B38: Total recettes | C38: =SUM(C34:C37) -> 0 | D38: =SUM(D34:D37) -> 0 | E38: =SUM(E34:E37) -> 0 | F38: =SUM(F34:F37) -> 0 | G38: =SUM(G34:G37) -> 0 | H38: =SUM(H34:H37) -> 0 | I38: =SUM(I34:I37) -> 0 | J38: =SUM(J34:J37) -> 0 | ... R38: =SUM(R34:R37) -> 0
B40: Solde section investissement | C40: =C38-C31 -> 0 | D40: =D38-D31 -> 0 | E40: =E38-E31 -> 0 | F40: =F38-F31 -> 0 | G40: =G38-G31 -> 0 | H40: =H38-H31 -> 0 | I40: =I38-I31 -> 0 | J40: =J38-J31 -> 0 | ... R40: =R38-R31 -> 0
B41: Reprise résultat | D41: =IF(C40>0,C40,"") | E41: =IF(D40>0,D40,"") | F41: =IF(E40>0,E40,"") | G41: =IF(F40>0,F40,"") | H41: =IF(G40>0,G40,"") | I41: =IF(H40>0,H40,"") | J41: =IF(I40>0,I40,"") | K41: =IF(J40>0,J40,"") | ... R41: =IF(Q40>0,Q40,"")
B42: Cumul | C42: =SUM(C40:C41) -> 0 | D42: =SUM(D40:D41) -> 0 | E42: =SUM(E40:E41) -> 0 | F42: =SUM(F40:F41) -> 0 | G42: =SUM(G40:G41) -> 0 | H42: =SUM(H40:H41) -> 0 | I42: =SUM(I40:I41) -> 0 | J42: =SUM(J40:J41) -> 0 | ... R42: =SUM(R40:R41) -> 0
B44: Excédent total | C44: =C42+C24 -> 0 | D44: =D42+D24 -> -42840 | E44: =E42+E24 -> -42840 | F44: =F42+F24 -> -42840 | G44: =G42+G24 -> -42840 | H44: =H42+H24 -> -42840 | I44: =I42+I24 -> -42840 | J44: =J42+J24 -> -42840 | ... R44: =R42+R24 -> -42840
B45: Reports travaux
B46: Reports recettes
...

Sheet 6_Simulat°_équ_privé_DSP
A1: Budget prospectif DSP AFFERMAGE
A2: Année d'exploitation | B2: 2026 | C2: 2027 | D2: 2028 | E2: 2029 | F2: 2030 | G2: 2031 | H2: 2032 | I2: 2033 | J2: 2034 | K2: 2035 | L2: 2036 | M2: 2037 | N2: 2038 | O2: 2039 | P2: 2040
A3: PRODUITS D'EXPLOITATION | B3: 1 | C3: 2 | D3: 3 | E3: 4 | F3: 5 | G3: 6 | H3: 7 | I3: 8 | J3: 9 | K3: 10 | L3: 11 | M3: 12 | N3: 13 | O3: 14 | P3: 15
B4: RYTHME DE DEMARRAGE | E4: RYTHME DE CROISIERE
A5: Produits du service bouées de mouillage | B5: =SUM(B6:B8) -> 0 | C5: =SUM(C6:C8) -> 0 | D5: =SUM(D6:D8) -> 0 | E5: =SUM(E6:E8) -> 0 | F5: =SUM(F6:F8) -> 0 | G5: =SUM(G6:G8) -> 0 | H5: =SUM(H6:H8) -> 0 | I5: =SUM(I6:I8) -> 0 | ... P5: =SUM(P6:P8) -> 0
A6: =+'4_HYP RECETTES_Croisière '!B3 -> <8 m | B6: ='3_HYP RECETTES_démarrage'!R46 -> 0 | C6: =+B6 -> 0 | D6: =+C6 -> 0 | E6: ='4_HYP RECETTES_Croisière '!R46 -> 0 | F6: =E6 -> 0 | G6: =F6 -> 0 | H6: =G6 -> 0 | I6: =H6 -> 0 | J6: =I6 -> 0 | K6: =J6 -> 0 | L6: =K6 -> 0 | M6: =L6 -> 0 | ... P6: =O6 -> 0
A7: =+'4_HYP RECETTES_Croisière '!C3 -> 8 - 15 m | B7: ='3_HYP RECETTES_démarrage'!S46 -> 0 | C7: =+B7 -> 0 | D7: =+C7 -> 0 | E7: ='4_HYP RECETTES_Croisière '!S46 -> 0 | F7: =E7 -> 0 | G7: =F7 -> 0 | H7: =G7 -> 0 | I7: =H7 -> 0 | J7: =I7 -> 0 | K7: =J7 -> 0 | L7: =K7 -> 0 | M7: =L7 -> 0 | ... P7: =O7 -> 0
A8: =+'4_HYP RECETTES_Croisière '!D3 -> >15 m | B8: ='3_HYP RECETTES_démarrage'!T46 -> 0 | C8: =+B8 -> 0 | D8: =+C8 -> 0 | E8: ='4_HYP RECETTES_Croisière '!T46 -> 0 | F8: =E8 -> 0 | G8: =F8 -> 0 | H8: =G8 -> 0 | I8: =H8 -> 0 | J8: =I8 -> 0 | K8: =J8 -> 0 | L8: =K8 -> 0 | M8: =L8 -> 0 | ... P8: =O8 -> 0
A9: Subvention (budget de la régie qui porte les travaux et investissements) | C9: =+B9 -> 0 | D9: =+C9 -> 0 | E9: =+D9 -> 0 | F9: =+E9 -> 0 | G9: =+F9 -> 0 | H9: =+G9 -> 0 | I9: =+H9 -> 0 | J9: =+I9 -> 0 | ... P9: =+O9 -> 0
A10: Total | B10: =B5+B9 -> 0 | C10: =C5+C9 -> 0 | D10: =D5+D9 -> 0 | E10: =E5+E9 -> 0 | F10: =F5+F9 -> 0 | G10: =G5+G9 -> 0 | H10: =H5+H9 -> 0 | I10: =I5+I9 -> 0 | ... P10: =P5+P9 -> 0
A12: DEPENSES D'EXPLOITATION
A13: Maintenance annuelle de la ZMEL | B13: =+'2_HYP_COUTS'!C24 -> 0 | C13: =B13 -> 0 | D13: =C13 -> 0 | E13: =D13 -> 0 | F13: =E13 -> 0 | G13: =F13 -> 0 | H13: =G13 -> 0 | I13: =H13 -> 0 | J13: =I13 -> 0 | ... P13: =O13 -> 0
A14: Frais administratifs et financiers | B14: =SUM('2_HYP_COUTS'!C29,'2_HYP_COUTS'!C32:C34) -> 42840 | C14: =B14 -> 42840 | D14: =C14 -> 42840 | E14: =D14 -> 42840 | F14: =E14 -> 42840 | G14: =F14 -> 42840 | H14: =G14 -> 42840 | I14: =H14 -> 42840 | J14: =I14 -> 42840 | ... P14: =O14 -> 42840
A15: Total Charges d'exploitation | B15: =SUM(B13:B14) -> 42840 | C15: =SUM(C13:C14) -> 42840 | D15: =SUM(D13:D14) -> 42840 | E15: =SUM(E13:E14) -> 42840 | F15: =SUM(F13:F14) -> 42840 | G15: =SUM(G13:G14) -> 42840 | H15: =SUM(H13:H14) -> 42840 | I15: =SUM(I13:I14) -> 42840 | ... P15: =SUM(P13:P14) -> 42840
A17: Résultat intermédiaire avant redevance | B17: =B10-B15 -> -42840 | C17: =C10-C15 -> -42840 | D17: =D10-D15 -> -42840 | E17: =E10-E15 -> -42840 | F17: =F10-F15 -> -42840 | G17: =G10-G15 -> -42840 | H17: =H10-H15 -> -42840 | I17: =I10-I15 -> -42840 | ... P17: =P10-P15 -> -42840
A18: Redevance domaniale | B18: ='2_HYP_COUTS'!C31 | C18: =B18 | D18: =C18 | E18: =D18 | F18: =E18 | G18: =F18 | H18: =G18 | I18: =H18 | J18: =I18 | ... P18: =O18
A19: Hypothèse de reversement du fermier vers la régie sous forme de redevance | D19: =C37*'1_HYP SCENARIOS'!$B$45 -> #VALUE! | E19: =D37*'1_HYP SCENARIOS'!$B$45 -> #VALUE! | F19: =E37*'1_HYP SCENARIOS'!$B$45 -> #VALUE! | G19: =F37*'1_HYP SCENARIOS'!$B$45 -> #VALUE! | H19: =G37*'1_HYP SCENARIOS'!$B$45 -> #VALUE! | I19: =H37*'1_HYP SCENARIOS'!$B$45 -> #VALUE! | J19: =I37*'1_HYP SCENARIOS'!$B$45 -> #VALUE! | K19: =J37*'1_HYP SCENARIOS'!$B$45 -> #VALUE! | ... P19: =O37*'1_HYP SCENARIOS'!$B$45 -> #VALUE!
A20: Redevance et surtaxe d'affermage | B20: =B19+B18 -> #VALUE! | C20: =C19+C18 -> #VALUE! | D20: =D19+D18 -> #VALUE! | E20: =E19+E18 -> #VALUE! | F20: =F19+F18 -> #VALUE! | G20: =G19+G18 -> #VALUE! | H20: =H19+H18 -> #VALUE! | I20: =I19+I18 -> #VALUE! | ... P20: =P19+P18 -> #VALUE!
A21: Excédent Brut d'Exploitation (EBE) | B21: =B10-B15-B20 -> #VALUE! | C21: =C10-C15-C20 -> #VALUE! | D21: =D10-D15-D20 -> #VALUE! | E21: =E10-E15-E20 -> #VALUE! | F21: =F10-F15-F20 -> #VALUE! | G21: =G10-G15-G20 -> #VALUE! | H21: =H10-H15-H20 -> #VALUE! | I21: =I10-I15-I20 -> #VALUE! | ... P21: =P10-P15-P20 -> #VALUE!
A22: Amortissements techniques sur investissements nouveaux | B22: ='2_HYP_COUTS'!$C$15/3 -> 0 | C22: ='2_HYP_COUTS'!$C$15/3 -> 0 | D22: ='2_HYP_COUTS'!$C$15/3 -> 0
A23: Total dotations amortissements
A25: Résultat d'exploitation | B25: =B21-B23+B24 -> #VALUE! | C25: =C21-C23+C24 -> #VALUE! | D25: =D21-D23+D24 -> #VALUE! | E25: =E21-E23+E24 -> #VALUE! | F25: =F21-F23+F24 -> #VALUE! | G25: =G21-G23+G24 -> #VALUE! | H25: =H21-H23+H24 -> #VALUE! | I25: =I21-I23+I24 -> #VALUE! | ... P25: =P21-P23+P24 -> #VALUE!
A27: Intérêts des emprunts nouveaux | B27: =IPMT('1_HYP SCENARIOS'!$B$36,'6_Simulat°_équ_privé_DSP'!B3,'1_HYP SCENARIOS'!$B$37,'1_HYP SCENARIOS'!$B$29) -> 0 | C27: =IPMT('1_HYP SCENARIOS'!$B$36,'6_Simulat°_équ_privé_DSP'!C3,'1_HYP SCENARIOS'!$B$37,'1_HYP SCENARIOS'!$B$29) -> 0 | D27: =IPMT('1_HYP SCENARIOS'!$B$36,'6_Simulat°_équ_privé_DSP'!D3,'1_HYP SCENARIOS'!$B$37,'1_HYP SCENARIOS'!$B$29) -> 0 | E27: =IPMT('1_HYP SCENARIOS'!$B$36,'6_Simulat°_équ_privé_DSP'!E3,'1_HYP SCENARIOS'!$B$37,'1_HYP SCENARIOS'!$B$29) -> 0 | F27: =IPMT('1_HYP SCENARIOS'!$B$36,'6_Simulat°_équ_privé_DSP'!F3,'1_HYP SCENARIOS'!$B$37,'1_HYP SCENARIOS'!$B$29) -> 0 | G27: =IPMT('1_HYP SCENARIOS'!$B$36,'6_Simulat°_équ_privé_DSP'!G3,'1_HYP SCENARIOS'!$B$37,'1_HYP SCENARIOS'!$B$29) -> 0 | H27: =IPMT('1_HYP SCENARIOS'!$B$36,'6_Simulat°_équ_privé_DSP'!H3,'1_HYP SCENARIOS'!$B$37,'1_HYP SCENARIOS'!$B$29) -> 0 | I27: =IPMT('1_HYP SCENARIOS'!$B$36,'6_Simulat°_équ_privé_DSP'!I3,'1_HYP SCENARIOS'!$B$37,'1_HYP SCENARIOS'!$B$29) -> 0 | ... P27: =IPMT('1_HYP SCENARIOS'!$B$36,'6_Simulat°_équ_privé_DSP'!P3,'1_HYP SCENARIOS'!$B$37,'1_HYP SCENARIOS'!$B$29) -> 0
A28: Résultats financiers | B28: =B27 -> 0 | C28: =C27 -> 0 | D28: =D27 -> 0 | E28: =E27 -> 0 | F28: =F27 -> 0 | G28: =G27 -> 0 | H28: =H27 -> 0 | I28: =I27 -> 0 | ... P28: =P27 -> 0
A30: Produits exceptionnels | B30: 0 | C30: 0 | D30: 0 | E30: 0 | F30: 0 | G30: 0 | H30: 0 | I30: 0 | J30: 0 | K30: 0 | L30: 0 | M30: 0 | N30: 0 | O30: 0 | P30: 0
A31: Charges exceptionnelles | B31: 0 | C31: 0 | D31: 0 | E31: 0 | F31: 0 | G31: 0 | H31: 0 | I31: 0 | J31: 0 | K31: 0 | L31: 0 | M31: 0 | N31: 0 | O31: 0 | P31: 0
A32: Résultats exceptionnels | B32: =B30-B31 -> 0 | C32: =C30-C31 -> 0 | D32: =D30-D31 -> 0 | E32: =E30-E31 -> 0 | F32: =F30-F31 -> 0 | G32: =G30-G31 -> 0 | H32: =H30-H31 -> 0 | I32: =I30-I31 -> 0 | ... P32: =P30-P31 -> 0
A34: Résultat courant avant impôts | B34: =B25+B28+B32 -> #VALUE! | C34: =C25+C28+C32 -> #VALUE! | D34: =D25+D28+D32 -> #VALUE! | E34: =E25+E28+E32 -> #VALUE! | F34: =F25+F28+F32 -> #VALUE! | G34: =G25+G28+G32 -> #VALUE! | H34: =H25+H28+H32 -> #VALUE! | I34: =I25+I28+I32 -> #VALUE! | ... P34: =P25+P28+P32 -> #VALUE!
A35: Impôts sur les sociétés (33%) | B35: =IF(B34>0,B34/3,0) -> #VALUE! | C35: =IF(C34>0,C34/3,0) -> #VALUE! | D35: =IF(D34>0,D34/3,0) -> #VALUE! | E35: =IF(E34>0,E34/3,0) -> #VALUE! | F35: =IF(F34>0,F34/3,0) -> #VALUE! | G35: =IF(G34>0,G34/3,0) -> #VALUE! | H35: =IF(H34>0,H34/3,0) -> #VALUE! | I35: =IF(I34>0,I34/3,0) -> #VALUE! | ... P35: =IF(P34>0,P34/3,0) -> #VALUE!
A37: Résultat Net | B37: =B34-B35 -> #VALUE! | C37: =C34-C35 -> #VALUE! | D37: =D34-D35 -> #VALUE! | E37: =E34-E35 -> #VALUE! | F37: =F34-F35 -> #VALUE! | G37: =G34-G35 -> #VALUE! | H37: =H34-H35 -> #VALUE! | I37: =I34-I35 -> #VALUE! | ... P37: =P34-P35 -> #VALUE!
A39: Capacité d'Autofinancement | B39: =B37+B23-B24 -> #VALUE! | C39: =C37+C23-C24 -> #VALUE! | D39: =D37+D23-D24 -> #VALUE! | E39: =E37+E23-E24 -> #VALUE! | F39: =F37+F23-F24 -> #VALUE! | G39: =G37+G23-G24 -> #VALUE! | H39: =H37+H23-H24 -> #VALUE! | I39: =I37+I23-I24 -> #VALUE! | ... P39: =P37+P23-P24 -> #VALUE!
A41: Coût de Revient par bouée (K€) | B41: =(B15+B22+B27)/'2_HYP_COUTS'!$E$5 -> #DIV/0! | C41: =(C15+C22+C27)/'2_HYP_COUTS'!$E$5 -> #DIV/0! | D41: =(D15+D22+D27)/'2_HYP_COUTS'!$E$5 -> #DIV/0! | E41: =(E15+E22+E27)/'2_HYP_COUTS'!$E$5 -> #DIV/0! | F41: =(F15+F22+F27)/'2_HYP_COUTS'!$E$5 -> #DIV/0! | G41: =(G15+G22+G27)/'2_HYP_COUTS'!$E$5 -> #DIV/0! | H41: =(H15+H22+H27)/'2_HYP_COUTS'!$E$5 -> #DIV/0! | I41: =(I15+I22+I27)/'2_HYP_COUTS'!$E$5 -> #DIV/0! | ... P41: =(P15+P22+P27)/'2_HYP_COUTS'!$E$5 -> #DIV/0!

Sheet Recettes_du-port
A1: 3.2.1 Navires de plaisance de moins de 20 m | K1: 3.2.2 Yachts de plaisance ou de commerce de 20 à 40 mètres
G2: HT
A3: catégorie | B3: longueur | C3: largeur maximum | D3: Basse saison du 01/10 au 31/05 par jour en € TTC | E3: Haute saison du 01/06 au 30/09 par jour en € TTC | F3: forfait annuel en € TTC | G3: Basse saison du 01/10 au 31/05 par jour en € HT | H3: Haute saison du 01/06 au 30/09 par jour en € HT | K3: catégorie | L3: longueur | M3: largeur maxi. | N3: Basse saison du 01/10 au 31/05 par jour | P3: Moyenne saison juin et septembre par jour | R3: Haute saison juillet- août par jour | T3: forfait annuel
A4: A | B4: inf. à 5 m. | C4: 2 | D4: 6.31 | E4: 12.65 | F4: 792.8 | G4: =(1-$L$13)*D4 -> 5.048 | H4: =(1-$L$13)*E4 -> 10.12 | N4: € HT | O4: € TTC | P4: € HT | Q4: € TTC | R4: € HT | S4: € TTC | T4: € HT | U4: € TTC
A5: B | B5: 5 à 5.99 | C5: 2.3 | D5: 7.59 | E5: 15.17 | F5: 975.17 | G5: =(1-$L$13)*D5 -> 6.072 | H5: =(1-$L$13)*E5 -> 12.136 | K5: Y1 | L5: 20 à 24,99 m | M5: 6.5 | N5: 67.93 | O5: 81.52 | P5: 135.88 | Q5: 163.06 | R5: 169.85 | S5: 203.82 | T5: 12887.8 | U5: 15465.36
A6: C | B6: 6 à 6.99 | C6: 2.6 | D6: 8.84 | E6: 17.7 | F6: 1322.74 | G6: =(1-$L$13)*D6 -> 7.072 | H6: =(1-$L$13)*E6 -> 14.16 | K6: Y2 | L6: 25 à 29,99 m | M6: 7 | N6: 84.93 | O6: 101.91 | P6: 186.83 | Q6: 224.2 | R6: 229.3 | S6: 275.16 | T6: non disponible
A7: D | B7: 7 à 7.99 | C7: 2.8 | D7: 11.39 | E7: 21.49 | F7: 1667.24 | G7: =(1-$L$13)*D7 -> 9.112 | H7: =(1-$L$13)*E7 -> 17.192 | K7: Y3 | L7: 30 à 34,99 m | M7: 8 | N7: 127.39 | O7: 152.87 | P7: 229.3 | Q7: 275.16 | R7: 288.74 | S7: 346.49
A8: E | B8: 8 à 8.99 | C8: 3.2 | D8: 12.65 | E8: 25.3 | F8: 1806.39 | G8: =(1-$L$13)*D8 -> 10.12 | H8: =(1-$L$13)*E8 -> 20.24 | K8: Y4 | L8: 35 à 39,99 m | M8: 9 | N8: 169.85 | O8: 203.82 | P8: 288.74 | Q8: 346.49 | R8: 356.68 | S8: 428.01
A9: F | B9: 9 à 9.99 | C9: 3.4 | D9: 15.17 | E9: 27.81 | F9: 2100.38 | G9: =(1-$L$13)*D9 -> 12.136 | H9: =(1-$L$13)*E9 -> 22.248 | K9: Y5 | L9: sup. à 40 m | N9: 5,00 € / mètre linéaire | O9: 6,00 € / mètre linéaire | P9: 8,07 € / mètre linéaire | Q9: 9,68 € / mètre linéaire | R9: 10,19 € / mètre linéaire | S9: 12,23 € / mètre linéaire
A10: G | B10: 10 à 10.99 | C10: 3.8 | D10: 17.7 | E10: 31.61 | F10: 2394.77 | G10: =(1-$L$13)*D10 -> 14.16 | H10: =(1-$L$13)*E10 -> 25.288 | K10: Les yachts en escale au moins 6 jours consécutifs bénéficient, pour la durée totale de leur séjour, d’une réduction de 15% sur la tarification journalière ci-dessus. Ces tarifs sont accessibles directement aux propriétaires, capitaines ou gestionnaires de yachts. La longueur correspond à la longueur hors tout du navire. Elle est constatée par les agents portuaires. Une nuitée d’escale s’entend du jour 12h00 au lendemain 12h00. Toute arrivée après 12h00 ou départ après 12h00 entraîne la facturation de la nuitée complète. NOTE : La tarification des catégories Y1 à Y5 ne comprend pas la fourniture d’eau et d’électricité. (Branchement sur demande facturé suivant tarifs généraux de fourniture d’énergies) 3.3 MANUTENTIONS CARENAGE
A11: H | B11: 11 à 11.99 | C11: 4 | D11: 20.23 | E11: 35.42 | F11: 2739.72 | G11: =(1-$L$13)*D11 -> 16.184 | H11: =(1-$L$13)*E11 -> 28.336
A12: I | B12: 12 à 12.99 | C12: 4.3 | D12: 25.3 | E12: 40.48 | F12: 3084.65 | G12: =(1-$L$13)*D12 -> 20.24 | H12: =(1-$L$13)*E12 -> 32.384
A13: J | B13: 13 à 13.99 | C13: 4.6 | D13: 27.81 | E13: 45.53 | F13: 3831.41 | G13: =(1-$L$13)*D13 -> 22.248 | H13: =(1-$L$13)*E13 -> 36.424 | K13: TAUX DE TVA | L13: 0.2
A14: K | B14: 14 à 14.99 | C14: 4.8 | D14: 30.35 | E14: 50.58 | F14: 4578.22 | G14: =(1-$L$13)*D14 -> 24.28 | H14: =(1-$L$13)*E14 -> 40.464
A15: L | B15: 15 à 15.99 | C15: 4.9 | D15: 32.87 | E15: 55.63 | F15: 5324.97 | G15: =(1-$L$13)*D15 -> 26.296 | H15: =(1-$L$13)*E15 -> 44.504
A16: M | B16: 16 à 16.99 | C16: 5 | D16: 34.15 | E16: 78.02 | F16: 5577.61 | G16: =(1-$L$13)*D16 -> 27.32 | H16: =(1-$L$13)*E16 -> 62.416
A17: N | B17: 17 à 17.99 | C17: 5.2 | D17: 35.42 | E17: 83.99 | F17: 5830.29 | G17: =(1-$L$13)*D17 -> 28.336 | H17: =(1-$L$13)*E17 -> 67.192
A18: O | B18: 18 à 18.99 | C18: 6 | D18: 36.68 | E18: 96 | F18: 6082.94 | G18: =(1-$L$13)*D18 -> 29.344 | H18: =(1-$L$13)*E18 -> 76.8
A19: P | B19: 19 à 19.99 | C19: 6 | D19: 37.93 | E19: 113.99 | F19: 6335.59 | G19: =(1-$L$13)*D19 -> 30.344 | H19: =(1-$L$13)*E19 -> 91.192
A21: Ces tarifs sont en euros et T.T.C « Les bateaux de tradition des catégories A à D bénéficient d’une ristourne de 200 €. » Ces tarifs sont sans préjudice des remises décidées et compensées par le Département des Bouches-du-Rhône (remise 20% bateaux de tradition, remise 50% pêcheurs retraités). La longueur correspond à la longueur hors tout du navire. Elle est constatée par les agents portuaires. Une nuitée d’escale s’entend du jour 12h00 au lendemain 12h00. Toute arrivée après 12h00 ou départ après 12h00 entraîne la facturation de la nuitée complète.
